BEGIN:VCALENDAR
VERSION:2.0
PRODID:-//Hughes Brothers Theatre - ECPv6.15.17.1//NONSGML v1.0//EN
CALSCALE:GREGORIAN
METHOD:PUBLISH
X-ORIGINAL-URL:https://hughesentertainmentinc.com
X-WR-CALDESC:Events for Hughes Brothers Theatre
REFRESH-INTERVAL;VALUE=DURATION:PT1H
X-Robots-Tag:noindex
X-PUBLISHED-TTL:PT1H
BEGIN:VTIMEZONE
TZID:America/Chicago
BEGIN:DAYLIGHT
TZOFFSETFROM:-0600
TZOFFSETTO:-0500
TZNAME:CDT
DTSTART:20250309T080000
END:DAYLIGHT
BEGIN:STANDARD
TZOFFSETFROM:-0500
TZOFFSETTO:-0600
TZNAME:CST
DTSTART:20251102T070000
END:STANDARD
BEGIN:DAYLIGHT
TZOFFSETFROM:-0600
TZOFFSETTO:-0500
TZNAME:CDT
DTSTART:20260308T080000
END:DAYLIGHT
BEGIN:STANDARD
TZOFFSETFROM:-0500
TZOFFSETTO:-0600
TZNAME:CST
DTSTART:20261101T070000
END:STANDARD
BEGIN:DAYLIGHT
TZOFFSETFROM:-0600
TZOFFSETTO:-0500
TZNAME:CDT
DTSTART:20270314T080000
END:DAYLIGHT
BEGIN:STANDARD
TZOFFSETFROM:-0500
TZOFFSETTO:-0600
TZNAME:CST
DTSTART:20271107T070000
END:STANDARD
END:VTIMEZONE
BEGIN:VEVENT
DTSTART;TZID=America/Chicago:20261104T140000
DTEND;TZID=America/Chicago:20261104T160000
DTSTAMP:20260422T025853
CREATED:20260327T153805Z
LAST-MODIFIED:20260331T162649Z
UID:10001056-1793800800-1793808000@hughesentertainmentinc.com
SUMMARY:Baldknobbers Vintage Show
DESCRIPTION:Branson’s Famous Baldknobbers\, performing over 65 years in Branson\, bring country music and comedy to the Hughes Brothers Theatre. This iconic\, award-winning show blends tradition with high-energy fun. Seating is limited\, and tickets sell fast—book now for a legendary night of entertainment!
URL:https://hughesentertainmentinc.com/event/baldknobbers-vintage-show-35/
LOCATION:Hughes Brothers Theatre
CATEGORIES:Baldknobbers Vintage Show
ATTACH;FMTTYPE=image/jpeg:https://hughesentertainmentinc.com/wp-content/uploads/2025/04/Image.jpeg
END:VEVENT
BEGIN:VEVENT
DTSTART;TZID=America/Chicago:20261105T140000
DTEND;TZID=America/Chicago:20261105T160000
DTSTAMP:20260422T025853
CREATED:20260327T153936Z
LAST-MODIFIED:20260331T162649Z
UID:10001057-1793887200-1793894400@hughesentertainmentinc.com
SUMMARY:Baldknobbers Vintage Show
DESCRIPTION:Branson’s Famous Baldknobbers\, performing over 65 years in Branson\, bring country music and comedy to the Hughes Brothers Theatre. This iconic\, award-winning show blends tradition with high-energy fun. Seating is limited\, and tickets sell fast—book now for a legendary night of entertainment!
URL:https://hughesentertainmentinc.com/event/baldknobbers-vintage-show-36/
LOCATION:Hughes Brothers Theatre
CATEGORIES:Baldknobbers Vintage Show
ATTACH;FMTTYPE=image/jpeg:https://hughesentertainmentinc.com/wp-content/uploads/2025/04/Image.jpeg
END:VEVENT
BEGIN:VEVENT
DTSTART;TZID=America/Chicago:20261106T200000
DTEND;TZID=America/Chicago:20261106T220000
DTSTAMP:20260422T025853
CREATED:20260327T031046Z
LAST-MODIFIED:20260331T160055Z
UID:10000973-1793995200-1794002400@hughesentertainmentinc.com
SUMMARY:Branson Famous Baldknobbers
DESCRIPTION:Branson’s Famous Baldknobbers\, performing over 65 years in Branson\, bring country music and comedy to the Hughes Brothers Theatre. This iconic\, award-winning show blends tradition with high-energy fun. Seating is limited\, and tickets sell fast—book now for a legendary night of entertainment!
URL:https://hughesentertainmentinc.com/event/baldknobbers-show-68/
LOCATION:Hughes Brothers Theatre
CATEGORIES:Baldknobbers Show
ATTACH;FMTTYPE=image/jpeg:https://hughesentertainmentinc.com/wp-content/uploads/2025/04/Image.jpeg
END:VEVENT
BEGIN:VEVENT
DTSTART;TZID=America/Chicago:20261109T200000
DTEND;TZID=America/Chicago:20261109T220000
DTSTAMP:20260422T025853
CREATED:20260327T031050Z
LAST-MODIFIED:20260331T160055Z
UID:10000974-1794254400-1794261600@hughesentertainmentinc.com
SUMMARY:Branson Famous Baldknobbers
DESCRIPTION:Branson’s Famous Baldknobbers\, performing over 65 years in Branson\, bring country music and comedy to the Hughes Brothers Theatre. This iconic\, award-winning show blends tradition with high-energy fun. Seating is limited\, and tickets sell fast—book now for a legendary night of entertainment!
URL:https://hughesentertainmentinc.com/event/baldknobbers-show-69/
LOCATION:Hughes Brothers Theatre
CATEGORIES:Baldknobbers Show
ATTACH;FMTTYPE=image/jpeg:https://hughesentertainmentinc.com/wp-content/uploads/2025/04/Image.jpeg
END:VEVENT
BEGIN:VEVENT
DTSTART;TZID=America/Chicago:20261110T100000
DTEND;TZID=America/Chicago:20261110T120000
DTSTAMP:20260422T025853
CREATED:20260327T175418Z
LAST-MODIFIED:20260331T162708Z
UID:10001070-1794304800-1794312000@hughesentertainmentinc.com
SUMMARY:Baldknobbers Vintage Show
DESCRIPTION:Branson’s Famous Baldknobbers\, performing over 65 years in Branson\, bring country music and comedy to the Hughes Brothers Theatre. This iconic\, award-winning show blends tradition with high-energy fun. Seating is limited\, and tickets sell fast—book now for a legendary night of entertainment!
URL:https://hughesentertainmentinc.com/event/baldknobbers-vintage-show-49/
LOCATION:Hughes Brothers Theatre
CATEGORIES:Baldknobbers Vintage Show
ATTACH;FMTTYPE=image/jpeg:https://hughesentertainmentinc.com/wp-content/uploads/2025/04/Image.jpeg
END:VEVENT
BEGIN:VEVENT
DTSTART;TZID=America/Chicago:20261111T140000
DTEND;TZID=America/Chicago:20261111T160000
DTSTAMP:20260422T025853
CREATED:20260327T164127Z
LAST-MODIFIED:20260331T162659Z
UID:10001058-1794405600-1794412800@hughesentertainmentinc.com
SUMMARY:Baldknobbers Vintage Show
DESCRIPTION:Branson’s Famous Baldknobbers\, performing over 65 years in Branson\, bring country music and comedy to the Hughes Brothers Theatre. This iconic\, award-winning show blends tradition with high-energy fun. Seating is limited\, and tickets sell fast—book now for a legendary night of entertainment!
URL:https://hughesentertainmentinc.com/event/baldknobbers-vintage-show-37/
LOCATION:Hughes Brothers Theatre
CATEGORIES:Baldknobbers Vintage Show
ATTACH;FMTTYPE=image/jpeg:https://hughesentertainmentinc.com/wp-content/uploads/2025/04/Image.jpeg
END:VEVENT
BEGIN:VEVENT
DTSTART;TZID=America/Chicago:20261112T140000
DTEND;TZID=America/Chicago:20261112T160000
DTSTAMP:20260422T025853
CREATED:20260327T175034Z
LAST-MODIFIED:20260331T162659Z
UID:10001059-1794492000-1794499200@hughesentertainmentinc.com
SUMMARY:Baldknobbers Vintage Show
DESCRIPTION:Branson’s Famous Baldknobbers\, performing over 65 years in Branson\, bring country music and comedy to the Hughes Brothers Theatre. This iconic\, award-winning show blends tradition with high-energy fun. Seating is limited\, and tickets sell fast—book now for a legendary night of entertainment!
URL:https://hughesentertainmentinc.com/event/baldknobbers-vintage-show-38/
LOCATION:Hughes Brothers Theatre
CATEGORIES:Baldknobbers Vintage Show
ATTACH;FMTTYPE=image/jpeg:https://hughesentertainmentinc.com/wp-content/uploads/2025/04/Image.jpeg
END:VEVENT
BEGIN:VEVENT
DTSTART;TZID=America/Chicago:20261113T200000
DTEND;TZID=America/Chicago:20261113T220000
DTSTAMP:20260422T025853
CREATED:20260327T031056Z
LAST-MODIFIED:20260331T160055Z
UID:10000975-1794600000-1794607200@hughesentertainmentinc.com
SUMMARY:Branson Famous Baldknobbers
DESCRIPTION:Branson’s Famous Baldknobbers\, performing over 65 years in Branson\, bring country music and comedy to the Hughes Brothers Theatre. This iconic\, award-winning show blends tradition with high-energy fun. Seating is limited\, and tickets sell fast—book now for a legendary night of entertainment!
URL:https://hughesentertainmentinc.com/event/baldknobbers-show-70/
LOCATION:Hughes Brothers Theatre
CATEGORIES:Baldknobbers Show
ATTACH;FMTTYPE=image/jpeg:https://hughesentertainmentinc.com/wp-content/uploads/2025/04/Image.jpeg
END:VEVENT
BEGIN:VEVENT
DTSTART;TZID=America/Chicago:20261116T200000
DTEND;TZID=America/Chicago:20261116T220000
DTSTAMP:20260422T025853
CREATED:20260327T031107Z
LAST-MODIFIED:20260331T160055Z
UID:10000976-1794859200-1794866400@hughesentertainmentinc.com
SUMMARY:Branson Famous Baldknobbers
DESCRIPTION:Branson’s Famous Baldknobbers\, performing over 65 years in Branson\, bring country music and comedy to the Hughes Brothers Theatre. This iconic\, award-winning show blends tradition with high-energy fun. Seating is limited\, and tickets sell fast—book now for a legendary night of entertainment!
URL:https://hughesentertainmentinc.com/event/baldknobbers-show-71/
LOCATION:Hughes Brothers Theatre
CATEGORIES:Baldknobbers Show
ATTACH;FMTTYPE=image/jpeg:https://hughesentertainmentinc.com/wp-content/uploads/2025/04/Image.jpeg
END:VEVENT
BEGIN:VEVENT
DTSTART;TZID=America/Chicago:20261117T100000
DTEND;TZID=America/Chicago:20261117T120000
DTSTAMP:20260422T025853
CREATED:20260327T175422Z
LAST-MODIFIED:20260331T162708Z
UID:10001071-1794909600-1794916800@hughesentertainmentinc.com
SUMMARY:Baldknobbers Vintage Show
DESCRIPTION:Branson’s Famous Baldknobbers\, performing over 65 years in Branson\, bring country music and comedy to the Hughes Brothers Theatre. This iconic\, award-winning show blends tradition with high-energy fun. Seating is limited\, and tickets sell fast—book now for a legendary night of entertainment!
URL:https://hughesentertainmentinc.com/event/baldknobbers-vintage-show-50/
LOCATION:Hughes Brothers Theatre
CATEGORIES:Baldknobbers Vintage Show
ATTACH;FMTTYPE=image/jpeg:https://hughesentertainmentinc.com/wp-content/uploads/2025/04/Image.jpeg
END:VEVENT
BEGIN:VEVENT
DTSTART;TZID=America/Chicago:20261118T140000
DTEND;TZID=America/Chicago:20261118T160000
DTSTAMP:20260422T025853
CREATED:20260327T175059Z
LAST-MODIFIED:20260331T162659Z
UID:10001060-1795010400-1795017600@hughesentertainmentinc.com
SUMMARY:Baldknobbers Vintage Show
DESCRIPTION:Branson’s Famous Baldknobbers\, performing over 65 years in Branson\, bring country music and comedy to the Hughes Brothers Theatre. This iconic\, award-winning show blends tradition with high-energy fun. Seating is limited\, and tickets sell fast—book now for a legendary night of entertainment!
URL:https://hughesentertainmentinc.com/event/baldknobbers-vintage-show-39/
LOCATION:Hughes Brothers Theatre
CATEGORIES:Baldknobbers Vintage Show
ATTACH;FMTTYPE=image/jpeg:https://hughesentertainmentinc.com/wp-content/uploads/2025/04/Image.jpeg
END:VEVENT
BEGIN:VEVENT
DTSTART;TZID=America/Chicago:20261119T140000
DTEND;TZID=America/Chicago:20261119T160000
DTSTAMP:20260422T025853
CREATED:20260327T175103Z
LAST-MODIFIED:20260331T162659Z
UID:10001061-1795096800-1795104000@hughesentertainmentinc.com
SUMMARY:Baldknobbers Vintage Show
DESCRIPTION:Branson’s Famous Baldknobbers\, performing over 65 years in Branson\, bring country music and comedy to the Hughes Brothers Theatre. This iconic\, award-winning show blends tradition with high-energy fun. Seating is limited\, and tickets sell fast—book now for a legendary night of entertainment!
URL:https://hughesentertainmentinc.com/event/baldknobbers-vintage-show-40/
LOCATION:Hughes Brothers Theatre
CATEGORIES:Baldknobbers Vintage Show
ATTACH;FMTTYPE=image/jpeg:https://hughesentertainmentinc.com/wp-content/uploads/2025/04/Image.jpeg
END:VEVENT
BEGIN:VEVENT
DTSTART;TZID=America/Chicago:20261120T200000
DTEND;TZID=America/Chicago:20261120T220000
DTSTAMP:20260422T025853
CREATED:20260327T035724Z
LAST-MODIFIED:20260331T160055Z
UID:10000977-1795204800-1795212000@hughesentertainmentinc.com
SUMMARY:Branson Famous Baldknobbers
DESCRIPTION:Branson’s Famous Baldknobbers\, performing over 65 years in Branson\, bring country music and comedy to the Hughes Brothers Theatre. This iconic\, award-winning show blends tradition with high-energy fun. Seating is limited\, and tickets sell fast—book now for a legendary night of entertainment!
URL:https://hughesentertainmentinc.com/event/baldknobbers-show-72/
LOCATION:Hughes Brothers Theatre
CATEGORIES:Baldknobbers Show
ATTACH;FMTTYPE=image/jpeg:https://hughesentertainmentinc.com/wp-content/uploads/2025/04/Image.jpeg
END:VEVENT
BEGIN:VEVENT
DTSTART;TZID=America/Chicago:20261123T200000
DTEND;TZID=America/Chicago:20261123T220000
DTSTAMP:20260422T025853
CREATED:20260327T035855Z
LAST-MODIFIED:20260331T160202Z
UID:10000978-1795464000-1795471200@hughesentertainmentinc.com
SUMMARY:Branson Famous Baldknobbers
DESCRIPTION:Branson’s Famous Baldknobbers\, performing over 65 years in Branson\, bring country music and comedy to the Hughes Brothers Theatre. This iconic\, award-winning show blends tradition with high-energy fun. Seating is limited\, and tickets sell fast—book now for a legendary night of entertainment!
URL:https://hughesentertainmentinc.com/event/baldknobbers-show-73/
LOCATION:Hughes Brothers Theatre
CATEGORIES:Baldknobbers Show
ATTACH;FMTTYPE=image/jpeg:https://hughesentertainmentinc.com/wp-content/uploads/2025/04/Image.jpeg
END:VEVENT
BEGIN:VEVENT
DTSTART;TZID=America/Chicago:20261124T100000
DTEND;TZID=America/Chicago:20261124T120000
DTSTAMP:20260422T025853
CREATED:20260327T175426Z
LAST-MODIFIED:20260331T162708Z
UID:10001072-1795514400-1795521600@hughesentertainmentinc.com
SUMMARY:Baldknobbers Vintage Show
DESCRIPTION:Branson’s Famous Baldknobbers\, performing over 65 years in Branson\, bring country music and comedy to the Hughes Brothers Theatre. This iconic\, award-winning show blends tradition with high-energy fun. Seating is limited\, and tickets sell fast—book now for a legendary night of entertainment!
URL:https://hughesentertainmentinc.com/event/baldknobbers-vintage-show-51/
LOCATION:Hughes Brothers Theatre
CATEGORIES:Baldknobbers Vintage Show
ATTACH;FMTTYPE=image/jpeg:https://hughesentertainmentinc.com/wp-content/uploads/2025/04/Image.jpeg
END:VEVENT
BEGIN:VEVENT
DTSTART;TZID=America/Chicago:20261125T140000
DTEND;TZID=America/Chicago:20261125T160000
DTSTAMP:20260422T025853
CREATED:20260327T175107Z
LAST-MODIFIED:20260331T162659Z
UID:10001062-1795615200-1795622400@hughesentertainmentinc.com
SUMMARY:Baldknobbers Vintage Show
DESCRIPTION:Branson’s Famous Baldknobbers\, performing over 65 years in Branson\, bring country music and comedy to the Hughes Brothers Theatre. This iconic\, award-winning show blends tradition with high-energy fun. Seating is limited\, and tickets sell fast—book now for a legendary night of entertainment!
URL:https://hughesentertainmentinc.com/event/baldknobbers-vintage-show-41/
LOCATION:Hughes Brothers Theatre
CATEGORIES:Baldknobbers Vintage Show
ATTACH;FMTTYPE=image/jpeg:https://hughesentertainmentinc.com/wp-content/uploads/2025/04/Image.jpeg
END:VEVENT
BEGIN:VEVENT
DTSTART;TZID=America/Chicago:20261127T200000
DTEND;TZID=America/Chicago:20261127T220000
DTSTAMP:20260422T025853
CREATED:20260327T040017Z
LAST-MODIFIED:20260331T160202Z
UID:10000979-1795809600-1795816800@hughesentertainmentinc.com
SUMMARY:Branson Famous Baldknobbers
DESCRIPTION:Branson’s Famous Baldknobbers\, performing over 65 years in Branson\, bring country music and comedy to the Hughes Brothers Theatre. This iconic\, award-winning show blends tradition with high-energy fun. Seating is limited\, and tickets sell fast—book now for a legendary night of entertainment!
URL:https://hughesentertainmentinc.com/event/baldknobbers-show-74/
LOCATION:Hughes Brothers Theatre
CATEGORIES:Baldknobbers Show
ATTACH;FMTTYPE=image/jpeg:https://hughesentertainmentinc.com/wp-content/uploads/2025/04/Image.jpeg
END:VEVENT
BEGIN:VEVENT
DTSTART;TZID=America/Chicago:20261130T200000
DTEND;TZID=America/Chicago:20261130T220000
DTSTAMP:20260422T025853
CREATED:20260327T040138Z
LAST-MODIFIED:20260331T160202Z
UID:10000980-1796068800-1796076000@hughesentertainmentinc.com
SUMMARY:Branson Famous Baldknobbers
DESCRIPTION:Branson’s Famous Baldknobbers\, performing over 65 years in Branson\, bring country music and comedy to the Hughes Brothers Theatre. This iconic\, award-winning show blends tradition with high-energy fun. Seating is limited\, and tickets sell fast—book now for a legendary night of entertainment!
URL:https://hughesentertainmentinc.com/event/baldknobbers-show-75/
LOCATION:Hughes Brothers Theatre
CATEGORIES:Baldknobbers Show
ATTACH;FMTTYPE=image/jpeg:https://hughesentertainmentinc.com/wp-content/uploads/2025/04/Image.jpeg
END:VEVENT
BEGIN:VEVENT
DTSTART;TZID=America/Chicago:20261201T100000
DTEND;TZID=America/Chicago:20261201T120000
DTSTAMP:20260422T025853
CREATED:20260327T175430Z
LAST-MODIFIED:20260331T162708Z
UID:10001073-1796119200-1796126400@hughesentertainmentinc.com
SUMMARY:Baldknobbers Vintage Show
DESCRIPTION:Branson’s Famous Baldknobbers\, performing over 65 years in Branson\, bring country music and comedy to the Hughes Brothers Theatre. This iconic\, award-winning show blends tradition with high-energy fun. Seating is limited\, and tickets sell fast—book now for a legendary night of entertainment!
URL:https://hughesentertainmentinc.com/event/baldknobbers-vintage-show-52/
LOCATION:Hughes Brothers Theatre
CATEGORIES:Baldknobbers Vintage Show
ATTACH;FMTTYPE=image/jpeg:https://hughesentertainmentinc.com/wp-content/uploads/2025/04/Image.jpeg
END:VEVENT
BEGIN:VEVENT
DTSTART;TZID=America/Chicago:20261202T140000
DTEND;TZID=America/Chicago:20261202T160000
DTSTAMP:20260422T025853
CREATED:20260327T175111Z
LAST-MODIFIED:20260331T162659Z
UID:10001063-1796220000-1796227200@hughesentertainmentinc.com
SUMMARY:Baldknobbers Vintage Show
DESCRIPTION:Branson’s Famous Baldknobbers\, performing over 65 years in Branson\, bring country music and comedy to the Hughes Brothers Theatre. This iconic\, award-winning show blends tradition with high-energy fun. Seating is limited\, and tickets sell fast—book now for a legendary night of entertainment!
URL:https://hughesentertainmentinc.com/event/baldknobbers-vintage-show-42/
LOCATION:Hughes Brothers Theatre
CATEGORIES:Baldknobbers Vintage Show
ATTACH;FMTTYPE=image/jpeg:https://hughesentertainmentinc.com/wp-content/uploads/2025/04/Image.jpeg
END:VEVENT
BEGIN:VEVENT
DTSTART;TZID=America/Chicago:20261203T140000
DTEND;TZID=America/Chicago:20261203T160000
DTSTAMP:20260422T025853
CREATED:20260327T175127Z
LAST-MODIFIED:20260331T162659Z
UID:10001064-1796306400-1796313600@hughesentertainmentinc.com
SUMMARY:Baldknobbers Vintage Show
DESCRIPTION:Branson’s Famous Baldknobbers\, performing over 65 years in Branson\, bring country music and comedy to the Hughes Brothers Theatre. This iconic\, award-winning show blends tradition with high-energy fun. Seating is limited\, and tickets sell fast—book now for a legendary night of entertainment!
URL:https://hughesentertainmentinc.com/event/baldknobbers-vintage-show-43/
LOCATION:Hughes Brothers Theatre
CATEGORIES:Baldknobbers Vintage Show
ATTACH;FMTTYPE=image/jpeg:https://hughesentertainmentinc.com/wp-content/uploads/2025/04/Image.jpeg
END:VEVENT
BEGIN:VEVENT
DTSTART;TZID=America/Chicago:20261204T200000
DTEND;TZID=America/Chicago:20261204T220000
DTSTAMP:20260422T025853
CREATED:20260327T040309Z
LAST-MODIFIED:20260331T160202Z
UID:10000981-1796414400-1796421600@hughesentertainmentinc.com
SUMMARY:Branson Famous Baldknobbers
DESCRIPTION:Branson’s Famous Baldknobbers\, performing over 65 years in Branson\, bring country music and comedy to the Hughes Brothers Theatre. This iconic\, award-winning show blends tradition with high-energy fun. Seating is limited\, and tickets sell fast—book now for a legendary night of entertainment!
URL:https://hughesentertainmentinc.com/event/baldknobbers-show-76/
LOCATION:Hughes Brothers Theatre
CATEGORIES:Baldknobbers Show
ATTACH;FMTTYPE=image/jpeg:https://hughesentertainmentinc.com/wp-content/uploads/2025/04/Image.jpeg
END:VEVENT
BEGIN:VEVENT
DTSTART;TZID=America/Chicago:20261207T200000
DTEND;TZID=America/Chicago:20261207T220000
DTSTAMP:20260422T025853
CREATED:20260327T123659Z
LAST-MODIFIED:20260331T160202Z
UID:10000982-1796673600-1796680800@hughesentertainmentinc.com
SUMMARY:Branson Famous Baldknobbers
DESCRIPTION:Branson’s Famous Baldknobbers\, performing over 65 years in Branson\, bring country music and comedy to the Hughes Brothers Theatre. This iconic\, award-winning show blends tradition with high-energy fun. Seating is limited\, and tickets sell fast—book now for a legendary night of entertainment!
URL:https://hughesentertainmentinc.com/event/baldknobbers-show-77/
LOCATION:Hughes Brothers Theatre
CATEGORIES:Baldknobbers Show
ATTACH;FMTTYPE=image/jpeg:https://hughesentertainmentinc.com/wp-content/uploads/2025/04/Image.jpeg
END:VEVENT
BEGIN:VEVENT
DTSTART;TZID=America/Chicago:20261208T100000
DTEND;TZID=America/Chicago:20261208T120000
DTSTAMP:20260422T025853
CREATED:20260327T175724Z
LAST-MODIFIED:20260331T162759Z
UID:10001074-1796724000-1796731200@hughesentertainmentinc.com
SUMMARY:Baldknobbers Vintage Show
DESCRIPTION:Branson’s Famous Baldknobbers\, performing over 65 years in Branson\, bring country music and comedy to the Hughes Brothers Theatre. This iconic\, award-winning show blends tradition with high-energy fun. Seating is limited\, and tickets sell fast—book now for a legendary night of entertainment!
URL:https://hughesentertainmentinc.com/event/baldknobbers-vintage-show-53/
LOCATION:Hughes Brothers Theatre
CATEGORIES:Baldknobbers Vintage Show
ATTACH;FMTTYPE=image/jpeg:https://hughesentertainmentinc.com/wp-content/uploads/2025/04/Image.jpeg
END:VEVENT
BEGIN:VEVENT
DTSTART;TZID=America/Chicago:20261209T140000
DTEND;TZID=America/Chicago:20261209T160000
DTSTAMP:20260422T025853
CREATED:20260327T175131Z
LAST-MODIFIED:20260331T162659Z
UID:10001065-1796824800-1796832000@hughesentertainmentinc.com
SUMMARY:Baldknobbers Vintage Show
DESCRIPTION:Branson’s Famous Baldknobbers\, performing over 65 years in Branson\, bring country music and comedy to the Hughes Brothers Theatre. This iconic\, award-winning show blends tradition with high-energy fun. Seating is limited\, and tickets sell fast—book now for a legendary night of entertainment!
URL:https://hughesentertainmentinc.com/event/baldknobbers-vintage-show-44/
LOCATION:Hughes Brothers Theatre
CATEGORIES:Baldknobbers Vintage Show
ATTACH;FMTTYPE=image/jpeg:https://hughesentertainmentinc.com/wp-content/uploads/2025/04/Image.jpeg
END:VEVENT
BEGIN:VEVENT
DTSTART;TZID=America/Chicago:20261210T140000
DTEND;TZID=America/Chicago:20261210T160000
DTSTAMP:20260422T025853
CREATED:20260327T175135Z
LAST-MODIFIED:20260331T162708Z
UID:10001066-1796911200-1796918400@hughesentertainmentinc.com
SUMMARY:Baldknobbers Vintage Show
DESCRIPTION:Branson’s Famous Baldknobbers\, performing over 65 years in Branson\, bring country music and comedy to the Hughes Brothers Theatre. This iconic\, award-winning show blends tradition with high-energy fun. Seating is limited\, and tickets sell fast—book now for a legendary night of entertainment!
URL:https://hughesentertainmentinc.com/event/baldknobbers-vintage-show-45/
LOCATION:Hughes Brothers Theatre
CATEGORIES:Baldknobbers Vintage Show
ATTACH;FMTTYPE=image/jpeg:https://hughesentertainmentinc.com/wp-content/uploads/2025/04/Image.jpeg
END:VEVENT
BEGIN:VEVENT
DTSTART;TZID=America/Chicago:20261211T200000
DTEND;TZID=America/Chicago:20261211T220000
DTSTAMP:20260422T025853
CREATED:20260327T123729Z
LAST-MODIFIED:20260331T160202Z
UID:10000983-1797019200-1797026400@hughesentertainmentinc.com
SUMMARY:Branson Famous Baldknobbers
DESCRIPTION:Branson’s Famous Baldknobbers\, performing over 65 years in Branson\, bring country music and comedy to the Hughes Brothers Theatre. This iconic\, award-winning show blends tradition with high-energy fun. Seating is limited\, and tickets sell fast—book now for a legendary night of entertainment!
URL:https://hughesentertainmentinc.com/event/baldknobbers-show-78/
LOCATION:Hughes Brothers Theatre
CATEGORIES:Baldknobbers Show
ATTACH;FMTTYPE=image/jpeg:https://hughesentertainmentinc.com/wp-content/uploads/2025/04/Image.jpeg
END:VEVENT
BEGIN:VEVENT
DTSTART;TZID=America/Chicago:20261214T200000
DTEND;TZID=America/Chicago:20261214T220000
DTSTAMP:20260422T025853
CREATED:20260327T123733Z
LAST-MODIFIED:20260331T160202Z
UID:10000984-1797278400-1797285600@hughesentertainmentinc.com
SUMMARY:Branson Famous Baldknobbers
DESCRIPTION:Branson’s Famous Baldknobbers\, performing over 65 years in Branson\, bring country music and comedy to the Hughes Brothers Theatre. This iconic\, award-winning show blends tradition with high-energy fun. Seating is limited\, and tickets sell fast—book now for a legendary night of entertainment!
URL:https://hughesentertainmentinc.com/event/baldknobbers-show-79/
LOCATION:Hughes Brothers Theatre
CATEGORIES:Baldknobbers Show
ATTACH;FMTTYPE=image/jpeg:https://hughesentertainmentinc.com/wp-content/uploads/2025/04/Image.jpeg
END:VEVENT
BEGIN:VEVENT
DTSTART;TZID=America/Chicago:20261216T140000
DTEND;TZID=America/Chicago:20261216T160000
DTSTAMP:20260422T025853
CREATED:20260327T175159Z
LAST-MODIFIED:20260331T162708Z
UID:10001067-1797429600-1797436800@hughesentertainmentinc.com
SUMMARY:Baldknobbers Vintage Show
DESCRIPTION:Branson’s Famous Baldknobbers\, performing over 65 years in Branson\, bring country music and comedy to the Hughes Brothers Theatre. This iconic\, award-winning show blends tradition with high-energy fun. Seating is limited\, and tickets sell fast—book now for a legendary night of entertainment!
URL:https://hughesentertainmentinc.com/event/baldknobbers-vintage-show-46/
LOCATION:Hughes Brothers Theatre
CATEGORIES:Baldknobbers Vintage Show
ATTACH;FMTTYPE=image/jpeg:https://hughesentertainmentinc.com/wp-content/uploads/2025/04/Image.jpeg
END:VEVENT
BEGIN:VEVENT
DTSTART;TZID=America/Chicago:20261217T140000
DTEND;TZID=America/Chicago:20261217T160000
DTSTAMP:20260422T025853
CREATED:20260327T175203Z
LAST-MODIFIED:20260331T162708Z
UID:10001068-1797516000-1797523200@hughesentertainmentinc.com
SUMMARY:Baldknobbers Vintage Show
DESCRIPTION:Branson’s Famous Baldknobbers\, performing over 65 years in Branson\, bring country music and comedy to the Hughes Brothers Theatre. This iconic\, award-winning show blends tradition with high-energy fun. Seating is limited\, and tickets sell fast—book now for a legendary night of entertainment!
URL:https://hughesentertainmentinc.com/event/baldknobbers-vintage-show-47/
LOCATION:Hughes Brothers Theatre
CATEGORIES:Baldknobbers Vintage Show
ATTACH;FMTTYPE=image/jpeg:https://hughesentertainmentinc.com/wp-content/uploads/2025/04/Image.jpeg
END:VEVENT
END:VCALENDAR