BEGIN:VCALENDAR
VERSION:2.0
PRODID:-//Hughes Brothers Theatre - ECPv6.15.17.1//NONSGML v1.0//EN
CALSCALE:GREGORIAN
METHOD:PUBLISH
X-WR-CALNAME:Hughes Brothers Theatre
X-ORIGINAL-URL:https://hughesentertainmentinc.com
X-WR-CALDESC:Events for Hughes Brothers Theatre
REFRESH-INTERVAL;VALUE=DURATION:PT1H
X-Robots-Tag:noindex
X-PUBLISHED-TTL:PT1H
BEGIN:VTIMEZONE
TZID:America/Chicago
BEGIN:DAYLIGHT
TZOFFSETFROM:-0600
TZOFFSETTO:-0500
TZNAME:CDT
DTSTART:20250309T080000
END:DAYLIGHT
BEGIN:STANDARD
TZOFFSETFROM:-0500
TZOFFSETTO:-0600
TZNAME:CST
DTSTART:20251102T070000
END:STANDARD
BEGIN:DAYLIGHT
TZOFFSETFROM:-0600
TZOFFSETTO:-0500
TZNAME:CDT
DTSTART:20260308T080000
END:DAYLIGHT
BEGIN:STANDARD
TZOFFSETFROM:-0500
TZOFFSETTO:-0600
TZNAME:CST
DTSTART:20261101T070000
END:STANDARD
BEGIN:DAYLIGHT
TZOFFSETFROM:-0600
TZOFFSETTO:-0500
TZNAME:CDT
DTSTART:20270314T080000
END:DAYLIGHT
BEGIN:STANDARD
TZOFFSETFROM:-0500
TZOFFSETTO:-0600
TZNAME:CST
DTSTART:20271107T070000
END:STANDARD
END:VTIMEZONE
BEGIN:VEVENT
DTSTART;TZID=America/Chicago:20260924T140000
DTEND;TZID=America/Chicago:20260924T140000
DTSTAMP:20260422T000533
CREATED:20260327T141537Z
LAST-MODIFIED:20260331T162639Z
UID:10001046-1790258400-1790258400@hughesentertainmentinc.com
SUMMARY:Baldknobbers Vintage Show
DESCRIPTION:Branson’s Famous Baldknobbers\, performing over 65 years in Branson\, bring country music and comedy to the Hughes Brothers Theatre. This iconic\, award-winning show blends tradition with high-energy fun. Seating is limited\, and tickets sell fast—book now for a legendary night of entertainment!
URL:https://hughesentertainmentinc.com/event/baldknobbers-vintage-show-25/
LOCATION:Hughes Brothers Theatre
CATEGORIES:Baldknobbers Vintage Show
ATTACH;FMTTYPE=image/jpeg:https://hughesentertainmentinc.com/wp-content/uploads/2025/04/Image.jpeg
END:VEVENT
BEGIN:VEVENT
DTSTART;TZID=America/Chicago:20260925T200000
DTEND;TZID=America/Chicago:20260925T200000
DTSTAMP:20260422T000533
CREATED:20260327T025853Z
LAST-MODIFIED:20260331T155903Z
UID:10000961-1790366400-1790366400@hughesentertainmentinc.com
SUMMARY:Branson Famous Baldknobbers
DESCRIPTION:Branson’s Famous Baldknobbers\, performing over 65 years in Branson\, bring country music and comedy to the Hughes Brothers Theatre. This iconic\, award-winning show blends tradition with high-energy fun. Seating is limited\, and tickets sell fast—book now for a legendary night of entertainment!
URL:https://hughesentertainmentinc.com/event/baldknobbers-show-56/
LOCATION:Hughes Brothers Theatre
CATEGORIES:Baldknobbers Show
ATTACH;FMTTYPE=image/jpeg:https://hughesentertainmentinc.com/wp-content/uploads/2025/04/Image.jpeg
END:VEVENT
BEGIN:VEVENT
DTSTART;TZID=America/Chicago:20260928T200000
DTEND;TZID=America/Chicago:20260928T200000
DTSTAMP:20260422T000533
CREATED:20260327T025911Z
LAST-MODIFIED:20260331T155951Z
UID:10000962-1790625600-1790625600@hughesentertainmentinc.com
SUMMARY:Branson Famous Baldknobbers
DESCRIPTION:Branson’s Famous Baldknobbers\, performing over 65 years in Branson\, bring country music and comedy to the Hughes Brothers Theatre. This iconic\, award-winning show blends tradition with high-energy fun. Seating is limited\, and tickets sell fast—book now for a legendary night of entertainment!
URL:https://hughesentertainmentinc.com/event/baldknobbers-show-57/
LOCATION:Hughes Brothers Theatre
CATEGORIES:Baldknobbers Show
ATTACH;FMTTYPE=image/jpeg:https://hughesentertainmentinc.com/wp-content/uploads/2025/04/Image.jpeg
END:VEVENT
BEGIN:VEVENT
DTSTART;TZID=America/Chicago:20260930T140000
DTEND;TZID=America/Chicago:20260930T140000
DTSTAMP:20260422T000533
CREATED:20260327T125309Z
LAST-MODIFIED:20260331T162611Z
UID:10001018-1790776800-1790776800@hughesentertainmentinc.com
SUMMARY:Branson Famous Baldknobbers
DESCRIPTION:Branson’s Famous Baldknobbers\, performing over 65 years in Branson\, bring country music and comedy to the Hughes Brothers Theatre. This iconic\, award-winning show blends tradition with high-energy fun. Seating is limited\, and tickets sell fast—book now for a legendary night of entertainment!
URL:https://hughesentertainmentinc.com/event/baldknobbers-show-113/
LOCATION:Hughes Brothers Theatre
CATEGORIES:Baldknobbers Show
ATTACH;FMTTYPE=image/jpeg:https://hughesentertainmentinc.com/wp-content/uploads/2025/04/Image.jpeg
END:VEVENT
BEGIN:VEVENT
DTSTART;TZID=America/Chicago:20261001T140000
DTEND;TZID=America/Chicago:20261001T140000
DTSTAMP:20260422T000533
CREATED:20260327T141541Z
LAST-MODIFIED:20260331T162639Z
UID:10001047-1790863200-1790863200@hughesentertainmentinc.com
SUMMARY:Baldknobbers Vintage Show
DESCRIPTION:Branson’s Famous Baldknobbers\, performing over 65 years in Branson\, bring country music and comedy to the Hughes Brothers Theatre. This iconic\, award-winning show blends tradition with high-energy fun. Seating is limited\, and tickets sell fast—book now for a legendary night of entertainment!
URL:https://hughesentertainmentinc.com/event/baldknobbers-vintage-show-26/
LOCATION:Hughes Brothers Theatre
CATEGORIES:Baldknobbers Vintage Show
ATTACH;FMTTYPE=image/jpeg:https://hughesentertainmentinc.com/wp-content/uploads/2025/04/Image.jpeg
END:VEVENT
BEGIN:VEVENT
DTSTART;TZID=America/Chicago:20261002T200000
DTEND;TZID=America/Chicago:20261002T200000
DTSTAMP:20260422T000533
CREATED:20260327T025915Z
LAST-MODIFIED:20260331T155951Z
UID:10000963-1790971200-1790971200@hughesentertainmentinc.com
SUMMARY:Branson Famous Baldknobbers
DESCRIPTION:Branson’s Famous Baldknobbers\, performing over 65 years in Branson\, bring country music and comedy to the Hughes Brothers Theatre. This iconic\, award-winning show blends tradition with high-energy fun. Seating is limited\, and tickets sell fast—book now for a legendary night of entertainment!
URL:https://hughesentertainmentinc.com/event/baldknobbers-show-58/
LOCATION:Hughes Brothers Theatre
CATEGORIES:Baldknobbers Show
ATTACH;FMTTYPE=image/jpeg:https://hughesentertainmentinc.com/wp-content/uploads/2025/04/Image.jpeg
END:VEVENT
BEGIN:VEVENT
DTSTART;TZID=America/Chicago:20261005T200000
DTEND;TZID=America/Chicago:20261005T200000
DTSTAMP:20260422T000533
CREATED:20260327T025940Z
LAST-MODIFIED:20260331T155951Z
UID:10000964-1791230400-1791230400@hughesentertainmentinc.com
SUMMARY:Branson Famous Baldknobbers
DESCRIPTION:Branson’s Famous Baldknobbers\, performing over 65 years in Branson\, bring country music and comedy to the Hughes Brothers Theatre. This iconic\, award-winning show blends tradition with high-energy fun. Seating is limited\, and tickets sell fast—book now for a legendary night of entertainment!
URL:https://hughesentertainmentinc.com/event/baldknobbers-show-59/
LOCATION:Hughes Brothers Theatre
CATEGORIES:Baldknobbers Show
ATTACH;FMTTYPE=image/jpeg:https://hughesentertainmentinc.com/wp-content/uploads/2025/04/Image.jpeg
END:VEVENT
BEGIN:VEVENT
DTSTART;TZID=America/Chicago:20261007T140000
DTEND;TZID=America/Chicago:20261007T140000
DTSTAMP:20260422T000533
CREATED:20260327T142638Z
LAST-MODIFIED:20260331T162639Z
UID:10001048-1791381600-1791381600@hughesentertainmentinc.com
SUMMARY:Baldknobbers Vintage Show
DESCRIPTION:Branson’s Famous Baldknobbers\, performing over 65 years in Branson\, bring country music and comedy to the Hughes Brothers Theatre. This iconic\, award-winning show blends tradition with high-energy fun. Seating is limited\, and tickets sell fast—book now for a legendary night of entertainment!
URL:https://hughesentertainmentinc.com/event/baldknobbers-vintage-show-27/
LOCATION:Hughes Brothers Theatre
CATEGORIES:Baldknobbers Vintage Show
ATTACH;FMTTYPE=image/jpeg:https://hughesentertainmentinc.com/wp-content/uploads/2025/04/Image.jpeg
END:VEVENT
BEGIN:VEVENT
DTSTART;TZID=America/Chicago:20261008T140000
DTEND;TZID=America/Chicago:20261008T140000
DTSTAMP:20260422T000533
CREATED:20260327T142809Z
LAST-MODIFIED:20260331T162639Z
UID:10001049-1791468000-1791468000@hughesentertainmentinc.com
SUMMARY:Baldknobbers Vintage Show
DESCRIPTION:Branson’s Famous Baldknobbers\, performing over 65 years in Branson\, bring country music and comedy to the Hughes Brothers Theatre. This iconic\, award-winning show blends tradition with high-energy fun. Seating is limited\, and tickets sell fast—book now for a legendary night of entertainment!
URL:https://hughesentertainmentinc.com/event/baldknobbers-vintage-show-28/
LOCATION:Hughes Brothers Theatre
CATEGORIES:Baldknobbers Vintage Show
ATTACH;FMTTYPE=image/jpeg:https://hughesentertainmentinc.com/wp-content/uploads/2025/04/Image.jpeg
END:VEVENT
BEGIN:VEVENT
DTSTART;TZID=America/Chicago:20261009T200000
DTEND;TZID=America/Chicago:20261009T200000
DTSTAMP:20260422T000533
CREATED:20260327T025944Z
LAST-MODIFIED:20260331T155951Z
UID:10000965-1791576000-1791576000@hughesentertainmentinc.com
SUMMARY:Branson Famous Baldknobbers
DESCRIPTION:Branson’s Famous Baldknobbers\, performing over 65 years in Branson\, bring country music and comedy to the Hughes Brothers Theatre. This iconic\, award-winning show blends tradition with high-energy fun. Seating is limited\, and tickets sell fast—book now for a legendary night of entertainment!
URL:https://hughesentertainmentinc.com/event/baldknobbers-show-60/
LOCATION:Hughes Brothers Theatre
CATEGORIES:Baldknobbers Show
ATTACH;FMTTYPE=image/jpeg:https://hughesentertainmentinc.com/wp-content/uploads/2025/04/Image.jpeg
END:VEVENT
BEGIN:VEVENT
DTSTART;TZID=America/Chicago:20261012T200000
DTEND;TZID=America/Chicago:20261012T200000
DTSTAMP:20260422T000533
CREATED:20260327T025948Z
LAST-MODIFIED:20260331T155951Z
UID:10000966-1791835200-1791835200@hughesentertainmentinc.com
SUMMARY:Branson Famous Baldknobbers
DESCRIPTION:Branson’s Famous Baldknobbers\, performing over 65 years in Branson\, bring country music and comedy to the Hughes Brothers Theatre. This iconic\, award-winning show blends tradition with high-energy fun. Seating is limited\, and tickets sell fast—book now for a legendary night of entertainment!
URL:https://hughesentertainmentinc.com/event/baldknobbers-show-61/
LOCATION:Hughes Brothers Theatre
CATEGORIES:Baldknobbers Show
ATTACH;FMTTYPE=image/jpeg:https://hughesentertainmentinc.com/wp-content/uploads/2025/04/Image.jpeg
END:VEVENT
BEGIN:VEVENT
DTSTART;TZID=America/Chicago:20261014T140000
DTEND;TZID=America/Chicago:20261014T140000
DTSTAMP:20260422T000533
CREATED:20260327T142935Z
LAST-MODIFIED:20260331T162649Z
UID:10001050-1791986400-1791986400@hughesentertainmentinc.com
SUMMARY:Baldknobbers Vintage Show
DESCRIPTION:Branson’s Famous Baldknobbers\, performing over 65 years in Branson\, bring country music and comedy to the Hughes Brothers Theatre. This iconic\, award-winning show blends tradition with high-energy fun. Seating is limited\, and tickets sell fast—book now for a legendary night of entertainment!
URL:https://hughesentertainmentinc.com/event/baldknobbers-vintage-show-29/
LOCATION:Hughes Brothers Theatre
CATEGORIES:Baldknobbers Vintage Show
ATTACH;FMTTYPE=image/jpeg:https://hughesentertainmentinc.com/wp-content/uploads/2025/04/Image.jpeg
END:VEVENT
BEGIN:VEVENT
DTSTART;TZID=America/Chicago:20261015T140000
DTEND;TZID=America/Chicago:20261015T140000
DTSTAMP:20260422T000533
CREATED:20260327T143057Z
LAST-MODIFIED:20260331T162649Z
UID:10001051-1792072800-1792072800@hughesentertainmentinc.com
SUMMARY:Baldknobbers Vintage Show
DESCRIPTION:Branson’s Famous Baldknobbers\, performing over 65 years in Branson\, bring country music and comedy to the Hughes Brothers Theatre. This iconic\, award-winning show blends tradition with high-energy fun. Seating is limited\, and tickets sell fast—book now for a legendary night of entertainment!
URL:https://hughesentertainmentinc.com/event/baldknobbers-vintage-show-30/
LOCATION:Hughes Brothers Theatre
CATEGORIES:Baldknobbers Vintage Show
ATTACH;FMTTYPE=image/jpeg:https://hughesentertainmentinc.com/wp-content/uploads/2025/04/Image.jpeg
END:VEVENT
BEGIN:VEVENT
DTSTART;TZID=America/Chicago:20261016T200000
DTEND;TZID=America/Chicago:20261016T200000
DTSTAMP:20260422T000533
CREATED:20260327T030229Z
LAST-MODIFIED:20260331T155951Z
UID:10000967-1792180800-1792180800@hughesentertainmentinc.com
SUMMARY:Branson Famous Baldknobbers
DESCRIPTION:Branson’s Famous Baldknobbers\, performing over 65 years in Branson\, bring country music and comedy to the Hughes Brothers Theatre. This iconic\, award-winning show blends tradition with high-energy fun. Seating is limited\, and tickets sell fast—book now for a legendary night of entertainment!
URL:https://hughesentertainmentinc.com/event/baldknobbers-show-62/
LOCATION:Hughes Brothers Theatre
CATEGORIES:Baldknobbers Show
ATTACH;FMTTYPE=image/jpeg:https://hughesentertainmentinc.com/wp-content/uploads/2025/04/Image.jpeg
END:VEVENT
BEGIN:VEVENT
DTSTART;TZID=America/Chicago:20261019T200000
DTEND;TZID=America/Chicago:20261019T200000
DTSTAMP:20260422T000533
CREATED:20260327T030254Z
LAST-MODIFIED:20260331T155951Z
UID:10000968-1792440000-1792440000@hughesentertainmentinc.com
SUMMARY:Branson Famous Baldknobbers
DESCRIPTION:Branson’s Famous Baldknobbers\, performing over 65 years in Branson\, bring country music and comedy to the Hughes Brothers Theatre. This iconic\, award-winning show blends tradition with high-energy fun. Seating is limited\, and tickets sell fast—book now for a legendary night of entertainment!
URL:https://hughesentertainmentinc.com/event/baldknobbers-show-63/
LOCATION:Hughes Brothers Theatre
CATEGORIES:Baldknobbers Show
ATTACH;FMTTYPE=image/jpeg:https://hughesentertainmentinc.com/wp-content/uploads/2025/04/Image.jpeg
END:VEVENT
BEGIN:VEVENT
DTSTART;TZID=America/Chicago:20261021T140000
DTEND;TZID=America/Chicago:20261021T140000
DTSTAMP:20260422T000533
CREATED:20260327T143228Z
LAST-MODIFIED:20260331T162649Z
UID:10001052-1792591200-1792591200@hughesentertainmentinc.com
SUMMARY:Baldknobbers Vintage Show
DESCRIPTION:Branson’s Famous Baldknobbers\, performing over 65 years in Branson\, bring country music and comedy to the Hughes Brothers Theatre. This iconic\, award-winning show blends tradition with high-energy fun. Seating is limited\, and tickets sell fast—book now for a legendary night of entertainment!
URL:https://hughesentertainmentinc.com/event/baldknobbers-vintage-show-31/
LOCATION:Hughes Brothers Theatre
CATEGORIES:Baldknobbers Vintage Show
ATTACH;FMTTYPE=image/jpeg:https://hughesentertainmentinc.com/wp-content/uploads/2025/04/Image.jpeg
END:VEVENT
BEGIN:VEVENT
DTSTART;TZID=America/Chicago:20261022T140000
DTEND;TZID=America/Chicago:20261022T140000
DTSTAMP:20260422T000533
CREATED:20260327T153352Z
LAST-MODIFIED:20260331T162649Z
UID:10001053-1792677600-1792677600@hughesentertainmentinc.com
SUMMARY:Baldknobbers Vintage Show
DESCRIPTION:Branson’s Famous Baldknobbers\, performing over 65 years in Branson\, bring country music and comedy to the Hughes Brothers Theatre. This iconic\, award-winning show blends tradition with high-energy fun. Seating is limited\, and tickets sell fast—book now for a legendary night of entertainment!
URL:https://hughesentertainmentinc.com/event/baldknobbers-vintage-show-32/
LOCATION:Hughes Brothers Theatre
CATEGORIES:Baldknobbers Vintage Show
ATTACH;FMTTYPE=image/jpeg:https://hughesentertainmentinc.com/wp-content/uploads/2025/04/Image.jpeg
END:VEVENT
BEGIN:VEVENT
DTSTART;TZID=America/Chicago:20261023T200000
DTEND;TZID=America/Chicago:20261023T200000
DTSTAMP:20260422T000533
CREATED:20260327T030257Z
LAST-MODIFIED:20260331T155951Z
UID:10000969-1792785600-1792785600@hughesentertainmentinc.com
SUMMARY:Branson Famous Baldknobbers
DESCRIPTION:Branson’s Famous Baldknobbers\, performing over 65 years in Branson\, bring country music and comedy to the Hughes Brothers Theatre. This iconic\, award-winning show blends tradition with high-energy fun. Seating is limited\, and tickets sell fast—book now for a legendary night of entertainment!
URL:https://hughesentertainmentinc.com/event/baldknobbers-show-64/
LOCATION:Hughes Brothers Theatre
CATEGORIES:Baldknobbers Show
ATTACH;FMTTYPE=image/jpeg:https://hughesentertainmentinc.com/wp-content/uploads/2025/04/Image.jpeg
END:VEVENT
BEGIN:VEVENT
DTSTART;TZID=America/Chicago:20261026T200000
DTEND;TZID=America/Chicago:20261026T200000
DTSTAMP:20260422T000533
CREATED:20260327T030303Z
LAST-MODIFIED:20260331T160055Z
UID:10000970-1793044800-1793044800@hughesentertainmentinc.com
SUMMARY:Branson Famous Baldknobbers
DESCRIPTION:Branson’s Famous Baldknobbers\, performing over 65 years in Branson\, bring country music and comedy to the Hughes Brothers Theatre. This iconic\, award-winning show blends tradition with high-energy fun. Seating is limited\, and tickets sell fast—book now for a legendary night of entertainment!
URL:https://hughesentertainmentinc.com/event/baldknobbers-show-65/
LOCATION:Hughes Brothers Theatre
CATEGORIES:Baldknobbers Show
ATTACH;FMTTYPE=image/jpeg:https://hughesentertainmentinc.com/wp-content/uploads/2025/04/Image.jpeg
END:VEVENT
BEGIN:VEVENT
DTSTART;TZID=America/Chicago:20261028T140000
DTEND;TZID=America/Chicago:20261028T140000
DTSTAMP:20260422T000533
CREATED:20260327T153523Z
LAST-MODIFIED:20260331T162649Z
UID:10001054-1793196000-1793196000@hughesentertainmentinc.com
SUMMARY:Baldknobbers Vintage Show
DESCRIPTION:Branson’s Famous Baldknobbers\, performing over 65 years in Branson\, bring country music and comedy to the Hughes Brothers Theatre. This iconic\, award-winning show blends tradition with high-energy fun. Seating is limited\, and tickets sell fast—book now for a legendary night of entertainment!
URL:https://hughesentertainmentinc.com/event/baldknobbers-vintage-show-33/
LOCATION:Hughes Brothers Theatre
CATEGORIES:Baldknobbers Vintage Show
ATTACH;FMTTYPE=image/jpeg:https://hughesentertainmentinc.com/wp-content/uploads/2025/04/Image.jpeg
END:VEVENT
BEGIN:VEVENT
DTSTART;TZID=America/Chicago:20261029T140000
DTEND;TZID=America/Chicago:20261029T140000
DTSTAMP:20260422T000533
CREATED:20260327T153644Z
LAST-MODIFIED:20260331T162649Z
UID:10001055-1793282400-1793282400@hughesentertainmentinc.com
SUMMARY:Baldknobbers Vintage Show
DESCRIPTION:Branson’s Famous Baldknobbers\, performing over 65 years in Branson\, bring country music and comedy to the Hughes Brothers Theatre. This iconic\, award-winning show blends tradition with high-energy fun. Seating is limited\, and tickets sell fast—book now for a legendary night of entertainment!
URL:https://hughesentertainmentinc.com/event/baldknobbers-vintage-show-34/
LOCATION:Hughes Brothers Theatre
CATEGORIES:Baldknobbers Vintage Show
ATTACH;FMTTYPE=image/jpeg:https://hughesentertainmentinc.com/wp-content/uploads/2025/04/Image.jpeg
END:VEVENT
BEGIN:VEVENT
DTSTART;TZID=America/Chicago:20261030T200000
DTEND;TZID=America/Chicago:20261030T200000
DTSTAMP:20260422T000533
CREATED:20260327T030313Z
LAST-MODIFIED:20260331T160055Z
UID:10000971-1793390400-1793390400@hughesentertainmentinc.com
SUMMARY:Branson Famous Baldknobbers
DESCRIPTION:Branson’s Famous Baldknobbers\, performing over 65 years in Branson\, bring country music and comedy to the Hughes Brothers Theatre. This iconic\, award-winning show blends tradition with high-energy fun. Seating is limited\, and tickets sell fast—book now for a legendary night of entertainment!
URL:https://hughesentertainmentinc.com/event/baldknobbers-show-66/
LOCATION:Hughes Brothers Theatre
CATEGORIES:Baldknobbers Show
ATTACH;FMTTYPE=image/jpeg:https://hughesentertainmentinc.com/wp-content/uploads/2025/04/Image.jpeg
END:VEVENT
BEGIN:VEVENT
DTSTART;TZID=America/Chicago:20261102T200000
DTEND;TZID=America/Chicago:20261102T220000
DTSTAMP:20260422T000533
CREATED:20260327T031013Z
LAST-MODIFIED:20260331T160055Z
UID:10000972-1793649600-1793656800@hughesentertainmentinc.com
SUMMARY:Branson Famous Baldknobbers
DESCRIPTION:Branson’s Famous Baldknobbers\, performing over 65 years in Branson\, bring country music and comedy to the Hughes Brothers Theatre. This iconic\, award-winning show blends tradition with high-energy fun. Seating is limited\, and tickets sell fast—book now for a legendary night of entertainment!
URL:https://hughesentertainmentinc.com/event/baldknobbers-show-67/
LOCATION:Hughes Brothers Theatre
CATEGORIES:Baldknobbers Show
ATTACH;FMTTYPE=image/jpeg:https://hughesentertainmentinc.com/wp-content/uploads/2025/04/Image.jpeg
END:VEVENT
BEGIN:VEVENT
DTSTART;TZID=America/Chicago:20261103T100000
DTEND;TZID=America/Chicago:20261103T120000
DTSTAMP:20260422T000533
CREATED:20260327T175354Z
LAST-MODIFIED:20260331T162708Z
UID:10001069-1793700000-1793707200@hughesentertainmentinc.com
SUMMARY:Baldknobbers Vintage Show
DESCRIPTION:Branson’s Famous Baldknobbers\, performing over 65 years in Branson\, bring country music and comedy to the Hughes Brothers Theatre. This iconic\, award-winning show blends tradition with high-energy fun. Seating is limited\, and tickets sell fast—book now for a legendary night of entertainment!
URL:https://hughesentertainmentinc.com/event/baldknobbers-vintage-show-48/
LOCATION:Hughes Brothers Theatre
CATEGORIES:Baldknobbers Vintage Show
ATTACH;FMTTYPE=image/jpeg:https://hughesentertainmentinc.com/wp-content/uploads/2025/04/Image.jpeg
END:VEVENT
BEGIN:VEVENT
DTSTART;TZID=America/Chicago:20261104T140000
DTEND;TZID=America/Chicago:20261104T160000
DTSTAMP:20260422T000533
CREATED:20260327T153805Z
LAST-MODIFIED:20260331T162649Z
UID:10001056-1793800800-1793808000@hughesentertainmentinc.com
SUMMARY:Baldknobbers Vintage Show
DESCRIPTION:Branson’s Famous Baldknobbers\, performing over 65 years in Branson\, bring country music and comedy to the Hughes Brothers Theatre. This iconic\, award-winning show blends tradition with high-energy fun. Seating is limited\, and tickets sell fast—book now for a legendary night of entertainment!
URL:https://hughesentertainmentinc.com/event/baldknobbers-vintage-show-35/
LOCATION:Hughes Brothers Theatre
CATEGORIES:Baldknobbers Vintage Show
ATTACH;FMTTYPE=image/jpeg:https://hughesentertainmentinc.com/wp-content/uploads/2025/04/Image.jpeg
END:VEVENT
BEGIN:VEVENT
DTSTART;TZID=America/Chicago:20261105T140000
DTEND;TZID=America/Chicago:20261105T160000
DTSTAMP:20260422T000533
CREATED:20260327T153936Z
LAST-MODIFIED:20260331T162649Z
UID:10001057-1793887200-1793894400@hughesentertainmentinc.com
SUMMARY:Baldknobbers Vintage Show
DESCRIPTION:Branson’s Famous Baldknobbers\, performing over 65 years in Branson\, bring country music and comedy to the Hughes Brothers Theatre. This iconic\, award-winning show blends tradition with high-energy fun. Seating is limited\, and tickets sell fast—book now for a legendary night of entertainment!
URL:https://hughesentertainmentinc.com/event/baldknobbers-vintage-show-36/
LOCATION:Hughes Brothers Theatre
CATEGORIES:Baldknobbers Vintage Show
ATTACH;FMTTYPE=image/jpeg:https://hughesentertainmentinc.com/wp-content/uploads/2025/04/Image.jpeg
END:VEVENT
BEGIN:VEVENT
DTSTART;TZID=America/Chicago:20261106T200000
DTEND;TZID=America/Chicago:20261106T220000
DTSTAMP:20260422T000533
CREATED:20260327T031046Z
LAST-MODIFIED:20260331T160055Z
UID:10000973-1793995200-1794002400@hughesentertainmentinc.com
SUMMARY:Branson Famous Baldknobbers
DESCRIPTION:Branson’s Famous Baldknobbers\, performing over 65 years in Branson\, bring country music and comedy to the Hughes Brothers Theatre. This iconic\, award-winning show blends tradition with high-energy fun. Seating is limited\, and tickets sell fast—book now for a legendary night of entertainment!
URL:https://hughesentertainmentinc.com/event/baldknobbers-show-68/
LOCATION:Hughes Brothers Theatre
CATEGORIES:Baldknobbers Show
ATTACH;FMTTYPE=image/jpeg:https://hughesentertainmentinc.com/wp-content/uploads/2025/04/Image.jpeg
END:VEVENT
BEGIN:VEVENT
DTSTART;TZID=America/Chicago:20261109T200000
DTEND;TZID=America/Chicago:20261109T220000
DTSTAMP:20260422T000533
CREATED:20260327T031050Z
LAST-MODIFIED:20260331T160055Z
UID:10000974-1794254400-1794261600@hughesentertainmentinc.com
SUMMARY:Branson Famous Baldknobbers
DESCRIPTION:Branson’s Famous Baldknobbers\, performing over 65 years in Branson\, bring country music and comedy to the Hughes Brothers Theatre. This iconic\, award-winning show blends tradition with high-energy fun. Seating is limited\, and tickets sell fast—book now for a legendary night of entertainment!
URL:https://hughesentertainmentinc.com/event/baldknobbers-show-69/
LOCATION:Hughes Brothers Theatre
CATEGORIES:Baldknobbers Show
ATTACH;FMTTYPE=image/jpeg:https://hughesentertainmentinc.com/wp-content/uploads/2025/04/Image.jpeg
END:VEVENT
BEGIN:VEVENT
DTSTART;TZID=America/Chicago:20261110T100000
DTEND;TZID=America/Chicago:20261110T120000
DTSTAMP:20260422T000533
CREATED:20260327T175418Z
LAST-MODIFIED:20260331T162708Z
UID:10001070-1794304800-1794312000@hughesentertainmentinc.com
SUMMARY:Baldknobbers Vintage Show
DESCRIPTION:Branson’s Famous Baldknobbers\, performing over 65 years in Branson\, bring country music and comedy to the Hughes Brothers Theatre. This iconic\, award-winning show blends tradition with high-energy fun. Seating is limited\, and tickets sell fast—book now for a legendary night of entertainment!
URL:https://hughesentertainmentinc.com/event/baldknobbers-vintage-show-49/
LOCATION:Hughes Brothers Theatre
CATEGORIES:Baldknobbers Vintage Show
ATTACH;FMTTYPE=image/jpeg:https://hughesentertainmentinc.com/wp-content/uploads/2025/04/Image.jpeg
END:VEVENT
BEGIN:VEVENT
DTSTART;TZID=America/Chicago:20261111T140000
DTEND;TZID=America/Chicago:20261111T160000
DTSTAMP:20260422T000533
CREATED:20260327T164127Z
LAST-MODIFIED:20260331T162659Z
UID:10001058-1794405600-1794412800@hughesentertainmentinc.com
SUMMARY:Baldknobbers Vintage Show
DESCRIPTION:Branson’s Famous Baldknobbers\, performing over 65 years in Branson\, bring country music and comedy to the Hughes Brothers Theatre. This iconic\, award-winning show blends tradition with high-energy fun. Seating is limited\, and tickets sell fast—book now for a legendary night of entertainment!
URL:https://hughesentertainmentinc.com/event/baldknobbers-vintage-show-37/
LOCATION:Hughes Brothers Theatre
CATEGORIES:Baldknobbers Vintage Show
ATTACH;FMTTYPE=image/jpeg:https://hughesentertainmentinc.com/wp-content/uploads/2025/04/Image.jpeg
END:VEVENT
END:VCALENDAR