BEGIN:VCALENDAR
VERSION:2.0
PRODID:-//Hughes Brothers Theatre - ECPv6.15.17.1//NONSGML v1.0//EN
CALSCALE:GREGORIAN
METHOD:PUBLISH
X-ORIGINAL-URL:https://hughesentertainmentinc.com
X-WR-CALDESC:Events for Hughes Brothers Theatre
REFRESH-INTERVAL;VALUE=DURATION:PT1H
X-Robots-Tag:noindex
X-PUBLISHED-TTL:PT1H
BEGIN:VTIMEZONE
TZID:America/Chicago
BEGIN:DAYLIGHT
TZOFFSETFROM:-0600
TZOFFSETTO:-0500
TZNAME:CDT
DTSTART:20250309T080000
END:DAYLIGHT
BEGIN:STANDARD
TZOFFSETFROM:-0500
TZOFFSETTO:-0600
TZNAME:CST
DTSTART:20251102T070000
END:STANDARD
BEGIN:DAYLIGHT
TZOFFSETFROM:-0600
TZOFFSETTO:-0500
TZNAME:CDT
DTSTART:20260308T080000
END:DAYLIGHT
BEGIN:STANDARD
TZOFFSETFROM:-0500
TZOFFSETTO:-0600
TZNAME:CST
DTSTART:20261101T070000
END:STANDARD
BEGIN:DAYLIGHT
TZOFFSETFROM:-0600
TZOFFSETTO:-0500
TZNAME:CDT
DTSTART:20270314T080000
END:DAYLIGHT
BEGIN:STANDARD
TZOFFSETFROM:-0500
TZOFFSETTO:-0600
TZNAME:CST
DTSTART:20271107T070000
END:STANDARD
END:VTIMEZONE
BEGIN:VEVENT
DTSTART;TZID=America/Chicago:20260611T140000
DTEND;TZID=America/Chicago:20260611T140000
DTSTAMP:20260421T164722
CREATED:20260327T140815Z
LAST-MODIFIED:20260331T162621Z
UID:10001031-1781186400-1781186400@hughesentertainmentinc.com
SUMMARY:Baldknobbers Vintage Show
DESCRIPTION:Branson’s Famous Baldknobbers\, performing over 65 years in Branson\, bring country music and comedy to the Hughes Brothers Theatre. This iconic\, award-winning show blends tradition with high-energy fun. Seating is limited\, and tickets sell fast—book now for a legendary night of entertainment!
URL:https://hughesentertainmentinc.com/event/baldknobbers-vintage-show-10/
LOCATION:Hughes Brothers Theatre
CATEGORIES:Baldknobbers Vintage Show
ATTACH;FMTTYPE=image/jpeg:https://hughesentertainmentinc.com/wp-content/uploads/2025/04/Image.jpeg
END:VEVENT
BEGIN:VEVENT
DTSTART;TZID=America/Chicago:20260612T200000
DTEND;TZID=America/Chicago:20260612T200000
DTSTAMP:20260421T164722
CREATED:20260327T021749Z
LAST-MODIFIED:20260331T155604Z
UID:10000931-1781294400-1781294400@hughesentertainmentinc.com
SUMMARY:Branson Famous Baldknobbers
DESCRIPTION:Branson’s Famous Baldknobbers\, performing over 65 years in Branson\, bring country music and comedy to the Hughes Brothers Theatre. This iconic\, award-winning show blends tradition with high-energy fun. Seating is limited\, and tickets sell fast—book now for a legendary night of entertainment!
URL:https://hughesentertainmentinc.com/event/baldknobbers-show-26/
LOCATION:Hughes Brothers Theatre
CATEGORIES:Baldknobbers Show
ATTACH;FMTTYPE=image/jpeg:https://hughesentertainmentinc.com/wp-content/uploads/2025/04/Image.jpeg
END:VEVENT
BEGIN:VEVENT
DTSTART;TZID=America/Chicago:20260615T200000
DTEND;TZID=America/Chicago:20260615T200000
DTSTAMP:20260421T164722
CREATED:20260327T021816Z
LAST-MODIFIED:20260331T155604Z
UID:10000932-1781553600-1781553600@hughesentertainmentinc.com
SUMMARY:Branson Famous Baldknobbers
DESCRIPTION:Branson’s Famous Baldknobbers\, performing over 65 years in Branson\, bring country music and comedy to the Hughes Brothers Theatre. This iconic\, award-winning show blends tradition with high-energy fun. Seating is limited\, and tickets sell fast—book now for a legendary night of entertainment!
URL:https://hughesentertainmentinc.com/event/baldknobbers-show-27/
LOCATION:Hughes Brothers Theatre
CATEGORIES:Baldknobbers Show
ATTACH;FMTTYPE=image/jpeg:https://hughesentertainmentinc.com/wp-content/uploads/2025/04/Image.jpeg
END:VEVENT
BEGIN:VEVENT
DTSTART;TZID=America/Chicago:20260617T140000
DTEND;TZID=America/Chicago:20260617T140000
DTSTAMP:20260421T164722
CREATED:20260327T124843Z
LAST-MODIFIED:20260331T162416Z
UID:10001003-1781704800-1781704800@hughesentertainmentinc.com
SUMMARY:Branson Famous Baldknobbers
DESCRIPTION:Branson’s Famous Baldknobbers\, performing over 65 years in Branson\, bring country music and comedy to the Hughes Brothers Theatre. This iconic\, award-winning show blends tradition with high-energy fun. Seating is limited\, and tickets sell fast—book now for a legendary night of entertainment!
URL:https://hughesentertainmentinc.com/event/baldknobbers-show-98/
LOCATION:Hughes Brothers Theatre
CATEGORIES:Baldknobbers Show
ATTACH;FMTTYPE=image/jpeg:https://hughesentertainmentinc.com/wp-content/uploads/2025/04/Image.jpeg
END:VEVENT
BEGIN:VEVENT
DTSTART;TZID=America/Chicago:20260618T140000
DTEND;TZID=America/Chicago:20260618T140000
DTSTAMP:20260421T164722
CREATED:20260327T140818Z
LAST-MODIFIED:20260331T162621Z
UID:10001032-1781791200-1781791200@hughesentertainmentinc.com
SUMMARY:Baldknobbers Vintage Show
DESCRIPTION:Branson’s Famous Baldknobbers\, performing over 65 years in Branson\, bring country music and comedy to the Hughes Brothers Theatre. This iconic\, award-winning show blends tradition with high-energy fun. Seating is limited\, and tickets sell fast—book now for a legendary night of entertainment!
URL:https://hughesentertainmentinc.com/event/baldknobbers-vintage-show-11/
LOCATION:Hughes Brothers Theatre
CATEGORIES:Baldknobbers Vintage Show
ATTACH;FMTTYPE=image/jpeg:https://hughesentertainmentinc.com/wp-content/uploads/2025/04/Image.jpeg
END:VEVENT
BEGIN:VEVENT
DTSTART;TZID=America/Chicago:20260619T200000
DTEND;TZID=America/Chicago:20260619T200000
DTSTAMP:20260421T164722
CREATED:20260327T021820Z
LAST-MODIFIED:20260331T155604Z
UID:10000933-1781899200-1781899200@hughesentertainmentinc.com
SUMMARY:Branson Famous Baldknobbers
DESCRIPTION:Branson’s Famous Baldknobbers\, performing over 65 years in Branson\, bring country music and comedy to the Hughes Brothers Theatre. This iconic\, award-winning show blends tradition with high-energy fun. Seating is limited\, and tickets sell fast—book now for a legendary night of entertainment!
URL:https://hughesentertainmentinc.com/event/baldknobbers-show-28/
LOCATION:Hughes Brothers Theatre
CATEGORIES:Baldknobbers Show
ATTACH;FMTTYPE=image/jpeg:https://hughesentertainmentinc.com/wp-content/uploads/2025/04/Image.jpeg
END:VEVENT
BEGIN:VEVENT
DTSTART;TZID=America/Chicago:20260622T200000
DTEND;TZID=America/Chicago:20260622T200000
DTSTAMP:20260421T164722
CREATED:20260327T021826Z
LAST-MODIFIED:20260331T155604Z
UID:10000934-1782158400-1782158400@hughesentertainmentinc.com
SUMMARY:Branson Famous Baldknobbers
DESCRIPTION:Branson’s Famous Baldknobbers\, performing over 65 years in Branson\, bring country music and comedy to the Hughes Brothers Theatre. This iconic\, award-winning show blends tradition with high-energy fun. Seating is limited\, and tickets sell fast—book now for a legendary night of entertainment!
URL:https://hughesentertainmentinc.com/event/baldknobbers-show-29/
LOCATION:Hughes Brothers Theatre
CATEGORIES:Baldknobbers Show
ATTACH;FMTTYPE=image/jpeg:https://hughesentertainmentinc.com/wp-content/uploads/2025/04/Image.jpeg
END:VEVENT
BEGIN:VEVENT
DTSTART;TZID=America/Chicago:20260624T140000
DTEND;TZID=America/Chicago:20260624T140000
DTSTAMP:20260421T164722
CREATED:20260327T124847Z
LAST-MODIFIED:20260331T162416Z
UID:10001004-1782309600-1782309600@hughesentertainmentinc.com
SUMMARY:Branson Famous Baldknobbers
DESCRIPTION:Branson’s Famous Baldknobbers\, performing over 65 years in Branson\, bring country music and comedy to the Hughes Brothers Theatre. This iconic\, award-winning show blends tradition with high-energy fun. Seating is limited\, and tickets sell fast—book now for a legendary night of entertainment!
URL:https://hughesentertainmentinc.com/event/baldknobbers-show-99/
LOCATION:Hughes Brothers Theatre
CATEGORIES:Baldknobbers Show
ATTACH;FMTTYPE=image/jpeg:https://hughesentertainmentinc.com/wp-content/uploads/2025/04/Image.jpeg
END:VEVENT
BEGIN:VEVENT
DTSTART;TZID=America/Chicago:20260625T140000
DTEND;TZID=America/Chicago:20260625T140000
DTSTAMP:20260421T164722
CREATED:20260327T140925Z
LAST-MODIFIED:20260331T162621Z
UID:10001033-1782396000-1782396000@hughesentertainmentinc.com
SUMMARY:Baldknobbers Vintage Show
DESCRIPTION:Branson’s Famous Baldknobbers\, performing over 65 years in Branson\, bring country music and comedy to the Hughes Brothers Theatre. This iconic\, award-winning show blends tradition with high-energy fun. Seating is limited\, and tickets sell fast—book now for a legendary night of entertainment!
URL:https://hughesentertainmentinc.com/event/baldknobbers-vintage-show-12/
LOCATION:Hughes Brothers Theatre
CATEGORIES:Baldknobbers Vintage Show
ATTACH;FMTTYPE=image/jpeg:https://hughesentertainmentinc.com/wp-content/uploads/2025/04/Image.jpeg
END:VEVENT
BEGIN:VEVENT
DTSTART;TZID=America/Chicago:20260626T200000
DTEND;TZID=America/Chicago:20260626T200000
DTSTAMP:20260421T164722
CREATED:20260327T021830Z
LAST-MODIFIED:20260331T155604Z
UID:10000935-1782504000-1782504000@hughesentertainmentinc.com
SUMMARY:Branson Famous Baldknobbers
DESCRIPTION:Branson’s Famous Baldknobbers\, performing over 65 years in Branson\, bring country music and comedy to the Hughes Brothers Theatre. This iconic\, award-winning show blends tradition with high-energy fun. Seating is limited\, and tickets sell fast—book now for a legendary night of entertainment!
URL:https://hughesentertainmentinc.com/event/baldknobbers-show-30/
LOCATION:Hughes Brothers Theatre
CATEGORIES:Baldknobbers Show
ATTACH;FMTTYPE=image/jpeg:https://hughesentertainmentinc.com/wp-content/uploads/2025/04/Image.jpeg
END:VEVENT
BEGIN:VEVENT
DTSTART;TZID=America/Chicago:20260629T200000
DTEND;TZID=America/Chicago:20260629T200000
DTSTAMP:20260421T164722
CREATED:20260327T021943Z
LAST-MODIFIED:20260331T155604Z
UID:10000936-1782763200-1782763200@hughesentertainmentinc.com
SUMMARY:Branson Famous Baldknobbers
DESCRIPTION:Branson’s Famous Baldknobbers\, performing over 65 years in Branson\, bring country music and comedy to the Hughes Brothers Theatre. This iconic\, award-winning show blends tradition with high-energy fun. Seating is limited\, and tickets sell fast—book now for a legendary night of entertainment!
URL:https://hughesentertainmentinc.com/event/baldknobbers-show-31/
LOCATION:Hughes Brothers Theatre
CATEGORIES:Baldknobbers Show
ATTACH;FMTTYPE=image/jpeg:https://hughesentertainmentinc.com/wp-content/uploads/2025/04/Image.jpeg
END:VEVENT
BEGIN:VEVENT
DTSTART;TZID=America/Chicago:20260701T140000
DTEND;TZID=America/Chicago:20260701T140000
DTSTAMP:20260421T164722
CREATED:20260327T124851Z
LAST-MODIFIED:20260331T162416Z
UID:10001005-1782914400-1782914400@hughesentertainmentinc.com
SUMMARY:Branson Famous Baldknobbers
DESCRIPTION:Branson’s Famous Baldknobbers\, performing over 65 years in Branson\, bring country music and comedy to the Hughes Brothers Theatre. This iconic\, award-winning show blends tradition with high-energy fun. Seating is limited\, and tickets sell fast—book now for a legendary night of entertainment!
URL:https://hughesentertainmentinc.com/event/baldknobbers-show-100/
LOCATION:Hughes Brothers Theatre
CATEGORIES:Baldknobbers Show
ATTACH;FMTTYPE=image/jpeg:https://hughesentertainmentinc.com/wp-content/uploads/2025/04/Image.jpeg
END:VEVENT
BEGIN:VEVENT
DTSTART;TZID=America/Chicago:20260702T140000
DTEND;TZID=America/Chicago:20260702T140000
DTSTAMP:20260421T164722
CREATED:20260327T140929Z
LAST-MODIFIED:20260331T162630Z
UID:10001034-1783000800-1783000800@hughesentertainmentinc.com
SUMMARY:Baldknobbers Vintage Show
DESCRIPTION:Branson’s Famous Baldknobbers\, performing over 65 years in Branson\, bring country music and comedy to the Hughes Brothers Theatre. This iconic\, award-winning show blends tradition with high-energy fun. Seating is limited\, and tickets sell fast—book now for a legendary night of entertainment!
URL:https://hughesentertainmentinc.com/event/baldknobbers-vintage-show-13/
LOCATION:Hughes Brothers Theatre
CATEGORIES:Baldknobbers Vintage Show
ATTACH;FMTTYPE=image/jpeg:https://hughesentertainmentinc.com/wp-content/uploads/2025/04/Image.jpeg
END:VEVENT
BEGIN:VEVENT
DTSTART;TZID=America/Chicago:20260703T200000
DTEND;TZID=America/Chicago:20260703T200000
DTSTAMP:20260421T164722
CREATED:20260327T022009Z
LAST-MODIFIED:20260331T155604Z
UID:10000937-1783108800-1783108800@hughesentertainmentinc.com
SUMMARY:Branson Famous Baldknobbers
DESCRIPTION:Branson’s Famous Baldknobbers\, performing over 65 years in Branson\, bring country music and comedy to the Hughes Brothers Theatre. This iconic\, award-winning show blends tradition with high-energy fun. Seating is limited\, and tickets sell fast—book now for a legendary night of entertainment!
URL:https://hughesentertainmentinc.com/event/baldknobbers-show-32/
LOCATION:Hughes Brothers Theatre
CATEGORIES:Baldknobbers Show
ATTACH;FMTTYPE=image/jpeg:https://hughesentertainmentinc.com/wp-content/uploads/2025/04/Image.jpeg
END:VEVENT
BEGIN:VEVENT
DTSTART;TZID=America/Chicago:20260706T200000
DTEND;TZID=America/Chicago:20260706T200000
DTSTAMP:20260421T164722
CREATED:20260327T022013Z
LAST-MODIFIED:20260331T155700Z
UID:10000938-1783368000-1783368000@hughesentertainmentinc.com
SUMMARY:Branson Famous Baldknobbers
DESCRIPTION:Branson’s Famous Baldknobbers\, performing over 65 years in Branson\, bring country music and comedy to the Hughes Brothers Theatre. This iconic\, award-winning show blends tradition with high-energy fun. Seating is limited\, and tickets sell fast—book now for a legendary night of entertainment!
URL:https://hughesentertainmentinc.com/event/baldknobbers-show-33/
LOCATION:Hughes Brothers Theatre
CATEGORIES:Baldknobbers Show
ATTACH;FMTTYPE=image/jpeg:https://hughesentertainmentinc.com/wp-content/uploads/2025/04/Image.jpeg
END:VEVENT
BEGIN:VEVENT
DTSTART;TZID=America/Chicago:20260708T140000
DTEND;TZID=America/Chicago:20260708T140000
DTSTAMP:20260421T164722
CREATED:20260327T124856Z
LAST-MODIFIED:20260331T162416Z
UID:10001006-1783519200-1783519200@hughesentertainmentinc.com
SUMMARY:Branson Famous Baldknobbers
DESCRIPTION:Branson’s Famous Baldknobbers\, performing over 65 years in Branson\, bring country music and comedy to the Hughes Brothers Theatre. This iconic\, award-winning show blends tradition with high-energy fun. Seating is limited\, and tickets sell fast—book now for a legendary night of entertainment!
URL:https://hughesentertainmentinc.com/event/baldknobbers-show-101/
LOCATION:Hughes Brothers Theatre
CATEGORIES:Baldknobbers Show
ATTACH;FMTTYPE=image/jpeg:https://hughesentertainmentinc.com/wp-content/uploads/2025/04/Image.jpeg
END:VEVENT
BEGIN:VEVENT
DTSTART;TZID=America/Chicago:20260709T140000
DTEND;TZID=America/Chicago:20260709T140000
DTSTAMP:20260421T164722
CREATED:20260327T140954Z
LAST-MODIFIED:20260331T162630Z
UID:10001035-1783605600-1783605600@hughesentertainmentinc.com
SUMMARY:Baldknobbers Vintage Show
DESCRIPTION:Branson’s Famous Baldknobbers\, performing over 65 years in Branson\, bring country music and comedy to the Hughes Brothers Theatre. This iconic\, award-winning show blends tradition with high-energy fun. Seating is limited\, and tickets sell fast—book now for a legendary night of entertainment!
URL:https://hughesentertainmentinc.com/event/baldknobbers-vintage-show-14/
LOCATION:Hughes Brothers Theatre
CATEGORIES:Baldknobbers Vintage Show
ATTACH;FMTTYPE=image/jpeg:https://hughesentertainmentinc.com/wp-content/uploads/2025/04/Image.jpeg
END:VEVENT
BEGIN:VEVENT
DTSTART;TZID=America/Chicago:20260710T200000
DTEND;TZID=America/Chicago:20260710T200000
DTSTAMP:20260421T164722
CREATED:20260327T022017Z
LAST-MODIFIED:20260331T155700Z
UID:10000939-1783713600-1783713600@hughesentertainmentinc.com
SUMMARY:Branson Famous Baldknobbers
DESCRIPTION:Branson’s Famous Baldknobbers\, performing over 65 years in Branson\, bring country music and comedy to the Hughes Brothers Theatre. This iconic\, award-winning show blends tradition with high-energy fun. Seating is limited\, and tickets sell fast—book now for a legendary night of entertainment!
URL:https://hughesentertainmentinc.com/event/baldknobbers-show-34/
LOCATION:Hughes Brothers Theatre
CATEGORIES:Baldknobbers Show
ATTACH;FMTTYPE=image/jpeg:https://hughesentertainmentinc.com/wp-content/uploads/2025/04/Image.jpeg
END:VEVENT
BEGIN:VEVENT
DTSTART;TZID=America/Chicago:20260713T200000
DTEND;TZID=America/Chicago:20260713T200000
DTSTAMP:20260421T164722
CREATED:20260327T022023Z
LAST-MODIFIED:20260331T155700Z
UID:10000940-1783972800-1783972800@hughesentertainmentinc.com
SUMMARY:Branson Famous Baldknobbers
DESCRIPTION:Branson’s Famous Baldknobbers\, performing over 65 years in Branson\, bring country music and comedy to the Hughes Brothers Theatre. This iconic\, award-winning show blends tradition with high-energy fun. Seating is limited\, and tickets sell fast—book now for a legendary night of entertainment!
URL:https://hughesentertainmentinc.com/event/baldknobbers-show-35/
LOCATION:Hughes Brothers Theatre
CATEGORIES:Baldknobbers Show
ATTACH;FMTTYPE=image/jpeg:https://hughesentertainmentinc.com/wp-content/uploads/2025/04/Image.jpeg
END:VEVENT
BEGIN:VEVENT
DTSTART;TZID=America/Chicago:20260715T140000
DTEND;TZID=America/Chicago:20260715T140000
DTSTAMP:20260421T164722
CREATED:20260327T124931Z
LAST-MODIFIED:20260331T162416Z
UID:10001007-1784124000-1784124000@hughesentertainmentinc.com
SUMMARY:Branson Famous Baldknobbers
DESCRIPTION:Branson’s Famous Baldknobbers\, performing over 65 years in Branson\, bring country music and comedy to the Hughes Brothers Theatre. This iconic\, award-winning show blends tradition with high-energy fun. Seating is limited\, and tickets sell fast—book now for a legendary night of entertainment!
URL:https://hughesentertainmentinc.com/event/baldknobbers-show-102/
LOCATION:Hughes Brothers Theatre
CATEGORIES:Baldknobbers Show
ATTACH;FMTTYPE=image/jpeg:https://hughesentertainmentinc.com/wp-content/uploads/2025/04/Image.jpeg
END:VEVENT
BEGIN:VEVENT
DTSTART;TZID=America/Chicago:20260716T140000
DTEND;TZID=America/Chicago:20260716T140000
DTSTAMP:20260421T164722
CREATED:20260327T140958Z
LAST-MODIFIED:20260331T162630Z
UID:10001036-1784210400-1784210400@hughesentertainmentinc.com
SUMMARY:Baldknobbers Vintage Show
DESCRIPTION:Branson’s Famous Baldknobbers\, performing over 65 years in Branson\, bring country music and comedy to the Hughes Brothers Theatre. This iconic\, award-winning show blends tradition with high-energy fun. Seating is limited\, and tickets sell fast—book now for a legendary night of entertainment!
URL:https://hughesentertainmentinc.com/event/baldknobbers-vintage-show-15/
LOCATION:Hughes Brothers Theatre
CATEGORIES:Baldknobbers Vintage Show
ATTACH;FMTTYPE=image/jpeg:https://hughesentertainmentinc.com/wp-content/uploads/2025/04/Image.jpeg
END:VEVENT
BEGIN:VEVENT
DTSTART;TZID=America/Chicago:20260717T200000
DTEND;TZID=America/Chicago:20260717T200000
DTSTAMP:20260421T164722
CREATED:20260327T022141Z
LAST-MODIFIED:20260331T155700Z
UID:10000941-1784318400-1784318400@hughesentertainmentinc.com
SUMMARY:Branson Famous Baldknobbers
DESCRIPTION:Branson’s Famous Baldknobbers\, performing over 65 years in Branson\, bring country music and comedy to the Hughes Brothers Theatre. This iconic\, award-winning show blends tradition with high-energy fun. Seating is limited\, and tickets sell fast—book now for a legendary night of entertainment!
URL:https://hughesentertainmentinc.com/event/baldknobbers-show-36/
LOCATION:Hughes Brothers Theatre
CATEGORIES:Baldknobbers Show
ATTACH;FMTTYPE=image/jpeg:https://hughesentertainmentinc.com/wp-content/uploads/2025/04/Image.jpeg
END:VEVENT
BEGIN:VEVENT
DTSTART;TZID=America/Chicago:20260720T200000
DTEND;TZID=America/Chicago:20260720T200000
DTSTAMP:20260421T164722
CREATED:20260327T022208Z
LAST-MODIFIED:20260331T155700Z
UID:10000942-1784577600-1784577600@hughesentertainmentinc.com
SUMMARY:Branson Famous Baldknobbers
DESCRIPTION:Branson’s Famous Baldknobbers\, performing over 65 years in Branson\, bring country music and comedy to the Hughes Brothers Theatre. This iconic\, award-winning show blends tradition with high-energy fun. Seating is limited\, and tickets sell fast—book now for a legendary night of entertainment!
URL:https://hughesentertainmentinc.com/event/baldknobbers-show-37/
LOCATION:Hughes Brothers Theatre
CATEGORIES:Baldknobbers Show
ATTACH;FMTTYPE=image/jpeg:https://hughesentertainmentinc.com/wp-content/uploads/2025/04/Image.jpeg
END:VEVENT
BEGIN:VEVENT
DTSTART;TZID=America/Chicago:20260722T140000
DTEND;TZID=America/Chicago:20260722T140000
DTSTAMP:20260421T164722
CREATED:20260327T124955Z
LAST-MODIFIED:20260331T162416Z
UID:10001008-1784728800-1784728800@hughesentertainmentinc.com
SUMMARY:Branson Famous Baldknobbers
DESCRIPTION:Branson’s Famous Baldknobbers\, performing over 65 years in Branson\, bring country music and comedy to the Hughes Brothers Theatre. This iconic\, award-winning show blends tradition with high-energy fun. Seating is limited\, and tickets sell fast—book now for a legendary night of entertainment!
URL:https://hughesentertainmentinc.com/event/baldknobbers-show-103/
LOCATION:Hughes Brothers Theatre
CATEGORIES:Baldknobbers Show
ATTACH;FMTTYPE=image/jpeg:https://hughesentertainmentinc.com/wp-content/uploads/2025/04/Image.jpeg
END:VEVENT
BEGIN:VEVENT
DTSTART;TZID=America/Chicago:20260723T140000
DTEND;TZID=America/Chicago:20260723T140000
DTSTAMP:20260421T164722
CREATED:20260327T141002Z
LAST-MODIFIED:20260331T162630Z
UID:10001037-1784815200-1784815200@hughesentertainmentinc.com
SUMMARY:Baldknobbers Vintage Show
DESCRIPTION:Branson’s Famous Baldknobbers\, performing over 65 years in Branson\, bring country music and comedy to the Hughes Brothers Theatre. This iconic\, award-winning show blends tradition with high-energy fun. Seating is limited\, and tickets sell fast—book now for a legendary night of entertainment!
URL:https://hughesentertainmentinc.com/event/baldknobbers-vintage-show-16/
LOCATION:Hughes Brothers Theatre
CATEGORIES:Baldknobbers Vintage Show
ATTACH;FMTTYPE=image/jpeg:https://hughesentertainmentinc.com/wp-content/uploads/2025/04/Image.jpeg
END:VEVENT
BEGIN:VEVENT
DTSTART;TZID=America/Chicago:20260724T200000
DTEND;TZID=America/Chicago:20260724T200000
DTSTAMP:20260421T164722
CREATED:20260327T022212Z
LAST-MODIFIED:20260331T155700Z
UID:10000943-1784923200-1784923200@hughesentertainmentinc.com
SUMMARY:Branson Famous Baldknobbers
DESCRIPTION:Branson’s Famous Baldknobbers\, performing over 65 years in Branson\, bring country music and comedy to the Hughes Brothers Theatre. This iconic\, award-winning show blends tradition with high-energy fun. Seating is limited\, and tickets sell fast—book now for a legendary night of entertainment!
URL:https://hughesentertainmentinc.com/event/baldknobbers-show-38/
LOCATION:Hughes Brothers Theatre
CATEGORIES:Baldknobbers Show
ATTACH;FMTTYPE=image/jpeg:https://hughesentertainmentinc.com/wp-content/uploads/2025/04/Image.jpeg
END:VEVENT
BEGIN:VEVENT
DTSTART;TZID=America/Chicago:20260727T200000
DTEND;TZID=America/Chicago:20260727T200000
DTSTAMP:20260421T164722
CREATED:20260327T022217Z
LAST-MODIFIED:20260331T155700Z
UID:10000944-1785182400-1785182400@hughesentertainmentinc.com
SUMMARY:Branson Famous Baldknobbers
DESCRIPTION:Branson’s Famous Baldknobbers\, performing over 65 years in Branson\, bring country music and comedy to the Hughes Brothers Theatre. This iconic\, award-winning show blends tradition with high-energy fun. Seating is limited\, and tickets sell fast—book now for a legendary night of entertainment!
URL:https://hughesentertainmentinc.com/event/baldknobbers-show-39/
LOCATION:Hughes Brothers Theatre
CATEGORIES:Baldknobbers Show
ATTACH;FMTTYPE=image/jpeg:https://hughesentertainmentinc.com/wp-content/uploads/2025/04/Image.jpeg
END:VEVENT
BEGIN:VEVENT
DTSTART;TZID=America/Chicago:20260729T140000
DTEND;TZID=America/Chicago:20260729T140000
DTSTAMP:20260421T164722
CREATED:20260327T124959Z
LAST-MODIFIED:20260331T162416Z
UID:10001009-1785333600-1785333600@hughesentertainmentinc.com
SUMMARY:Branson Famous Baldknobbers
DESCRIPTION:Branson’s Famous Baldknobbers\, performing over 65 years in Branson\, bring country music and comedy to the Hughes Brothers Theatre. This iconic\, award-winning show blends tradition with high-energy fun. Seating is limited\, and tickets sell fast—book now for a legendary night of entertainment!
URL:https://hughesentertainmentinc.com/event/baldknobbers-show-104/
LOCATION:Hughes Brothers Theatre
CATEGORIES:Baldknobbers Show
ATTACH;FMTTYPE=image/jpeg:https://hughesentertainmentinc.com/wp-content/uploads/2025/04/Image.jpeg
END:VEVENT
BEGIN:VEVENT
DTSTART;TZID=America/Chicago:20260730T140000
DTEND;TZID=America/Chicago:20260730T140000
DTSTAMP:20260421T164722
CREATED:20260327T141218Z
LAST-MODIFIED:20260331T162630Z
UID:10001038-1785420000-1785420000@hughesentertainmentinc.com
SUMMARY:Baldknobbers Vintage Show
DESCRIPTION:Branson’s Famous Baldknobbers\, performing over 65 years in Branson\, bring country music and comedy to the Hughes Brothers Theatre. This iconic\, award-winning show blends tradition with high-energy fun. Seating is limited\, and tickets sell fast—book now for a legendary night of entertainment!
URL:https://hughesentertainmentinc.com/event/baldknobbers-vintage-show-17/
LOCATION:Hughes Brothers Theatre
CATEGORIES:Baldknobbers Vintage Show
ATTACH;FMTTYPE=image/jpeg:https://hughesentertainmentinc.com/wp-content/uploads/2025/04/Image.jpeg
END:VEVENT
BEGIN:VEVENT
DTSTART;TZID=America/Chicago:20260731T200000
DTEND;TZID=America/Chicago:20260731T200000
DTSTAMP:20260421T164722
CREATED:20260327T022221Z
LAST-MODIFIED:20260331T155700Z
UID:10000945-1785528000-1785528000@hughesentertainmentinc.com
SUMMARY:Branson Famous Baldknobbers
DESCRIPTION:Branson’s Famous Baldknobbers\, performing over 65 years in Branson\, bring country music and comedy to the Hughes Brothers Theatre. This iconic\, award-winning show blends tradition with high-energy fun. Seating is limited\, and tickets sell fast—book now for a legendary night of entertainment!
URL:https://hughesentertainmentinc.com/event/baldknobbers-show-40/
LOCATION:Hughes Brothers Theatre
CATEGORIES:Baldknobbers Show
ATTACH;FMTTYPE=image/jpeg:https://hughesentertainmentinc.com/wp-content/uploads/2025/04/Image.jpeg
END:VEVENT
END:VCALENDAR